BEGIN:VCALENDAR
VERSION:2.0
PRODID:spatie/icalendar-generator
DESCRIPTION:Events from Canongate Kirk
X-WR-CALDESC:Events from Canongate Kirk
REFRESH-INTERVAL;VALUE=DURATION:PT1440M
X-PUBLISHED-TTL:PT1440M
BEGIN:VTIMEZONE
TZID:Etc/GMT-1
BEGIN:STANDARD
DTSTART:20121016T190000Z
TZOFFSETFROM:+0100
TZOFFSETTO:+0100
END:STANDARD
END:VTIMEZONE
BEGIN:VTIMEZONE
TZID:UTC
BEGIN:STANDARD
DTSTART:20250725T120128Z
TZOFFSETFROM:+0000
TZOFFSETTO:+0000
END:STANDARD
END:VTIMEZONE
BEGIN:VEVENT
UID:2070-550
DTSTAMP:20260421T120128Z
SUMMARY:''Bus Pass Concert\"
LOCATION:HYH
ORGANIZER;CN=Im:MAILTO:canongatekirk@btinternet.com
DTSTART;TZID=Etc/GMT-1:20130713T190000
DTEND;TZID=Etc/GMT-1:20130713T210000
X-ALT-DESC;FMTTYPE=TEXT/HTML:Light classical and other music from musicals 
 etc. Tickets: £10/£8
CATEGORIES:Church
URL;VALUE=URI:https://www.canongatekirk.org.uk/mc-events/bus-pass-concert-2
 /
METHOD:PUBLISH
END:VEVENT
END:VCALENDAR