BEGIN:VCALENDAR
VERSION:2.0
PRODID:spatie/icalendar-generator
DESCRIPTION:Events from Canongate Kirk
X-WR-CALDESC:Events from Canongate Kirk
REFRESH-INTERVAL;VALUE=DURATION:PT1440M
X-PUBLISHED-TTL:PT1440M
BEGIN:VTIMEZONE
TZID:Etc/GMT-1
BEGIN:STANDARD
DTSTART:20120410T190000Z
TZOFFSETFROM:+0100
TZOFFSETTO:+0100
END:STANDARD
END:VTIMEZONE
BEGIN:VTIMEZONE
TZID:UTC
BEGIN:STANDARD
DTSTART:20250724T082420Z
TZOFFSETFROM:+0000
TZOFFSETTO:+0000
END:STANDARD
END:VTIMEZONE
BEGIN:VEVENT
UID:1966-462
DTSTAMP:20260420T082420Z
SUMMARY:Concert: Caledonian Voices
LOCATION:HYH
ORGANIZER;CN=Im:MAILTO:canongatekirk@btinternet.com
DTSTART;TZID=Etc/GMT-1:20130105T190000
DTEND;TZID=Etc/GMT-1:20130105T220000
X-ALT-DESC;FMTTYPE=TEXT/HTML:Handel's Messiah www.caledonianvoices.co.uk Ti
 ckets £10/£8
CATEGORIES:Church
URL;VALUE=URI:https://www.canongatekirk.org.uk/mc-events/concert-caledonian
 -voices-3/
METHOD:PUBLISH
END:VEVENT
END:VCALENDAR