BEGIN:VCALENDAR
VERSION:2.0
PRODID:spatie/icalendar-generator
DESCRIPTION:Events from Canongate Kirk
X-WR-CALDESC:Events from Canongate Kirk
REFRESH-INTERVAL;VALUE=DURATION:PT1440M
X-PUBLISHED-TTL:PT1440M
BEGIN:VTIMEZONE
TZID:Etc/GMT-1
BEGIN:STANDARD
DTSTART:20131112T180000Z
TZOFFSETFROM:+0100
TZOFFSETTO:+0100
END:STANDARD
END:VTIMEZONE
BEGIN:VTIMEZONE
TZID:UTC
BEGIN:STANDARD
DTSTART:20250729T165004Z
TZOFFSETFROM:+0000
TZOFFSETTO:+0000
END:STANDARD
END:VTIMEZONE
BEGIN:VEVENT
UID:2706-1033
DTSTAMP:20260425T165004Z
SUMMARY:Concert: Consort of Voices
LOCATION:HYH
ORGANIZER;CN=Im:MAILTO:canongatekirk@btinternet.com
DTSTART;TZID=Etc/GMT-1:20140809T180000
DTEND;TZID=Etc/GMT-1:20140809T193000
X-ALT-DESC;FMTTYPE=TEXT/HTML:From Both Sides the Tweed - one of Scotland's 
 most accomplished and versatile vocal ensembles\, Consort of Voices\, dire
 cted by Stuart Hope\, present a programme of music from the British Isles\
 , featuring arrangements of Scots Songs together with works by Finzi\, Vau
 ghan Williams and Dowland. www.cov.org.uk Tickets £12/£8
CATEGORIES:Church
URL;VALUE=URI:https://www.canongatekirk.org.uk/mc-events/concert-consort-of
 -voices-8/
METHOD:PUBLISH
END:VEVENT
END:VCALENDAR