BEGIN:VCALENDAR
VERSION:2.0
PRODID:spatie/icalendar-generator
DESCRIPTION:Events from Canongate Kirk
X-WR-CALDESC:Events from Canongate Kirk
REFRESH-INTERVAL;VALUE=DURATION:PT1440M
X-PUBLISHED-TTL:PT1440M
BEGIN:VTIMEZONE
TZID:Etc/GMT-1
BEGIN:STANDARD
DTSTART:20110816T193000Z
TZOFFSETFROM:+0100
TZOFFSETTO:+0100
END:STANDARD
END:VTIMEZONE
BEGIN:VTIMEZONE
TZID:UTC
BEGIN:STANDARD
DTSTART:20250726T004856Z
TZOFFSETFROM:+0000
TZOFFSETTO:+0000
END:STANDARD
END:VTIMEZONE
BEGIN:VEVENT
UID:370-104
DTSTAMP:20260422T004856Z
SUMMARY:Concert\; Edinburgh Ensemble
LOCATION:HYH
ORGANIZER;CN=Im:MAILTO:canongatekirk@btinternet.com
DTSTART;TZID=Etc/GMT-1:20120512T193000
DTEND;TZID=Etc/GMT-1:20120512T213000
X-ALT-DESC;FMTTYPE=TEXT/HTML:Mozart: Overture to Don Giovanni\; Rondo in e-
 flat Major for Horn &amp; Orchestra\; Per Pieta Ben Mio from Cosi Fan Tutte\; 
 and Ah se in ciel\, benigne stelle Berlioz: Overture to Rob Roy\; and The 
 Death of Cleopatra Conductor: Raphael Mollaret\, Soprano: Natasha Day\, Fr
 ench Horn: Peter Kerr www.edinburghensemble.org.uk
CATEGORIES:Church
URL;VALUE=URI:https://www.canongatekirk.org.uk/mc-events/concert-edinburgh-
 ensemble-2/
METHOD:PUBLISH
END:VEVENT
END:VCALENDAR