BEGIN:VCALENDAR
VERSION:2.0
PRODID:spatie/icalendar-generator
DESCRIPTION:Events from Canongate Kirk
X-WR-CALDESC:Events from Canongate Kirk
REFRESH-INTERVAL;VALUE=DURATION:PT1440M
X-PUBLISHED-TTL:PT1440M
BEGIN:VTIMEZONE
TZID:Etc/GMT-1
BEGIN:STANDARD
DTSTART:20160509T180000Z
TZOFFSETFROM:+0100
TZOFFSETTO:+0100
END:STANDARD
END:VTIMEZONE
BEGIN:VTIMEZONE
TZID:UTC
BEGIN:STANDARD
DTSTART:20250727T115434Z
TZOFFSETFROM:+0000
TZOFFSETTO:+0000
END:STANDARD
END:VTIMEZONE
BEGIN:VEVENT
UID:5752-2387
DTSTAMP:20260423T115434Z
SUMMARY:Concert: Edinburgh Napier Chamber Choir
LOCATION:HYH
ORGANIZER;CN=Im:MAILTO:canongatekirk@btinternet.com
DTSTART;TZID=Etc/GMT-1:20170203T180000
DTEND;TZID=Etc/GMT-1:20170203T193000
X-ALT-DESC;FMTTYPE=TEXT/HTML:
CATEGORIES:Church
URL;VALUE=URI:https://www.canongatekirk.org.uk/mc-events/concert-edinburgh-
 napier-chamber-choir/
METHOD:PUBLISH
END:VEVENT
END:VCALENDAR