BEGIN:VCALENDAR
VERSION:2.0
PRODID:spatie/icalendar-generator
DESCRIPTION:Events from Canongate Kirk
X-WR-CALDESC:Events from Canongate Kirk
REFRESH-INTERVAL;VALUE=DURATION:PT1440M
X-PUBLISHED-TTL:PT1440M
BEGIN:VTIMEZONE
TZID:Etc/GMT-1
BEGIN:STANDARD
DTSTART:20121114T170000Z
TZOFFSETFROM:+0100
TZOFFSETTO:+0100
END:STANDARD
END:VTIMEZONE
BEGIN:VTIMEZONE
TZID:UTC
BEGIN:STANDARD
DTSTART:20250728T140047Z
TZOFFSETFROM:+0000
TZOFFSETTO:+0000
END:STANDARD
END:VTIMEZONE
BEGIN:VEVENT
UID:2254-700
DTSTAMP:20260424T140047Z
SUMMARY:Concert: Enkelit
LOCATION:HYH
ORGANIZER;CN=Im:MAILTO:canongatekirk@btinternet.com
RRULE:FREQ=DAILY;COUNT=3
DTSTART;TZID=Etc/GMT-1:20130811T170000
DTEND;TZID=Etc/GMT-1:20130811T180000
X-ALT-DESC;FMTTYPE=TEXT/HTML:ANGELS OF THE NORTH This upper-voices acapella
  ensemble are making their Edinburgh Fringe debut performing extraordinary
 \, contemporary Finnish music little known in the UK. Characterised by lon
 ging and melancholy\, Enkelit’s songs will make your spine tingle\, some
 times they’ll make you smile. www.enkelit.org.uk Tickets £5/£3.50 Frid
 ay and Monday\, £7/£5.50 Saturday and Sunday
CATEGORIES:Church
URL;VALUE=URI:https://www.canongatekirk.org.uk/mc-events/concert-enkelit-4/
 ?mc_id=2254
METHOD:PUBLISH
END:VEVENT
END:VCALENDAR