BEGIN:VCALENDAR
VERSION:2.0
PRODID:spatie/icalendar-generator
DESCRIPTION:Events from Canongate Kirk
X-WR-CALDESC:Events from Canongate Kirk
REFRESH-INTERVAL;VALUE=DURATION:PT1440M
X-PUBLISHED-TTL:PT1440M
BEGIN:VTIMEZONE
TZID:Etc/GMT-1
BEGIN:STANDARD
DTSTART:20140807T193000Z
TZOFFSETFROM:+0100
TZOFFSETTO:+0100
END:STANDARD
END:VTIMEZONE
BEGIN:VTIMEZONE
TZID:UTC
BEGIN:STANDARD
DTSTART:20250728T023216Z
TZOFFSETFROM:+0000
TZOFFSETTO:+0000
END:STANDARD
END:VTIMEZONE
BEGIN:VEVENT
UID:3259-1419
DTSTAMP:20260424T023216Z
SUMMARY:Concert: Napier Students
LOCATION:HYH
ORGANIZER;CN=Im:MAILTO:canongatekirk@btinternet.com
DTSTART;TZID=Etc/GMT-1:20150504T193000
DTEND;TZID=Etc/GMT-1:20150504T213000
X-ALT-DESC;FMTTYPE=TEXT/HTML:Laura Cioffi (flute) and Anna Wright (Saxophon
 e) will be presenting a varied recital as part of their Bachelor of Music 
 programmes. The two students are in their final years of study at Edinburg
 h Napier University and have performed in various concerts around Edinburg
 h\, including as soloists with the Napier Chamber Orchestra. &amp;nbsp\; Progr
 amme: Benjamin Godard&amp;hellip\;
CATEGORIES:Church
URL;VALUE=URI:https://www.canongatekirk.org.uk/mc-events/concert-napier-stu
 dents/
METHOD:PUBLISH
END:VEVENT
END:VCALENDAR