BEGIN:VCALENDAR
VERSION:2.0
PRODID:spatie/icalendar-generator
DESCRIPTION:Events from Canongate Kirk
X-WR-CALDESC:Events from Canongate Kirk
REFRESH-INTERVAL;VALUE=DURATION:PT1440M
X-PUBLISHED-TTL:PT1440M
BEGIN:VTIMEZONE
TZID:Etc/GMT-1
BEGIN:STANDARD
DTSTART:20141003T193000Z
TZOFFSETFROM:+0100
TZOFFSETTO:+0100
END:STANDARD
END:VTIMEZONE
BEGIN:VTIMEZONE
TZID:UTC
BEGIN:STANDARD
DTSTART:20250727T184210Z
TZOFFSETFROM:+0000
TZOFFSETTO:+0000
END:STANDARD
END:VTIMEZONE
BEGIN:VEVENT
UID:3997-1589
DTSTAMP:20260423T184210Z
SUMMARY:Concert: Robin Chapel Choir
LOCATION:HYH
ORGANIZER;CN=Im:MAILTO:canongatekirk@btinternet.com
DTSTART;TZID=Etc/GMT-1:20150630T193000
DTEND;TZID=Etc/GMT-1:20150630T210000
X-ALT-DESC;FMTTYPE=TEXT/HTML:'Fare thee weel a while...' Music by S Wesley\
 , Weelkes\, Byrd\, Durufle\,Tavener\, Holst and arrangements of folk songs
  by Timothy Salter.
CATEGORIES:Church
URL;VALUE=URI:https://www.canongatekirk.org.uk/mc-events/concert-robin-chap
 el-choir/
METHOD:PUBLISH
END:VEVENT
END:VCALENDAR