BEGIN:VCALENDAR
VERSION:2.0
PRODID:spatie/icalendar-generator
DESCRIPTION:Events from Canongate Kirk
X-WR-CALDESC:Events from Canongate Kirk
REFRESH-INTERVAL;VALUE=DURATION:PT1440M
X-PUBLISHED-TTL:PT1440M
BEGIN:VTIMEZONE
TZID:Etc/GMT-1
BEGIN:STANDARD
DTSTART:20140218T193000Z
TZOFFSETFROM:+0100
TZOFFSETTO:+0100
END:STANDARD
END:VTIMEZONE
BEGIN:VTIMEZONE
TZID:UTC
BEGIN:STANDARD
DTSTART:20250730T035011Z
TZOFFSETFROM:+0000
TZOFFSETTO:+0000
END:STANDARD
END:VTIMEZONE
BEGIN:VEVENT
UID:2750-1044
DTSTAMP:20260426T035011Z
SUMMARY:Concert: Scottish Chamber Choir
LOCATION:HYH
ORGANIZER;CN=Im:MAILTO:canongatekirk@btinternet.com
DTSTART;TZID=Etc/GMT-1:20141115T193000
DTEND;TZID=Etc/GMT-1:20141115T210000
X-ALT-DESC;FMTTYPE=TEXT/HTML:Mozart: Missa Brevis K275 Haydn: Little Organ 
 Mass Mozart: Venite K206 Mozart: Alma Dei Creatoris Conductor: Mark Hindle
 y Chamber Organ: Philip Sawyer plus strings from Sospiro Baroque
CATEGORIES:Church
URL;VALUE=URI:https://www.canongatekirk.org.uk/mc-events/concert-scottish-c
 hamber-choir-11/
METHOD:PUBLISH
END:VEVENT
END:VCALENDAR