BEGIN:VCALENDAR
VERSION:2.0
PRODID:spatie/icalendar-generator
DESCRIPTION:Events from Canongate Kirk
X-WR-CALDESC:Events from Canongate Kirk
REFRESH-INTERVAL;VALUE=DURATION:PT1440M
X-PUBLISHED-TTL:PT1440M
BEGIN:VTIMEZONE
TZID:Etc/GMT-1
BEGIN:STANDARD
DTSTART:20140923T193000Z
TZOFFSETFROM:+0100
TZOFFSETTO:+0100
END:STANDARD
END:VTIMEZONE
BEGIN:VTIMEZONE
TZID:UTC
BEGIN:STANDARD
DTSTART:20250728T074347Z
TZOFFSETFROM:+0000
TZOFFSETTO:+0000
END:STANDARD
END:VTIMEZONE
BEGIN:VEVENT
UID:3999-1591
DTSTAMP:20260424T074347Z
SUMMARY:Concert: St Salvator's Chapel Choir
LOCATION:HYH
ORGANIZER;CN=Im:MAILTO:canongatekirk@btinternet.com
DTSTART;TZID=Etc/GMT-1:20150620T193000
DTEND;TZID=Etc/GMT-1:20150620T210000
X-ALT-DESC;FMTTYPE=TEXT/HTML:St Salvator’s Chapel Choir is the flagship c
 hoir of the University of St Andrews\, Scotland. The choir’s history ext
 ends to the founding of the University in the early fifteenth century. Tod
 ay\, the choir’s thirty students perform a repertoire that spans the six
  centuries of the University’s existence. In addition to chapel services
 \, the choir enjoys&amp;hellip\;
CATEGORIES:Church
URL;VALUE=URI:https://www.canongatekirk.org.uk/mc-events/concert-st-salvato
 rs-chapel-choir/
METHOD:PUBLISH
END:VEVENT
END:VCALENDAR