BEGIN:VCALENDAR
VERSION:2.0
PRODID:spatie/icalendar-generator
DESCRIPTION:Events from Canongate Kirk
X-WR-CALDESC:Events from Canongate Kirk
REFRESH-INTERVAL;VALUE=DURATION:PT1440M
X-PUBLISHED-TTL:PT1440M
BEGIN:VTIMEZONE
TZID:Etc/GMT-1
BEGIN:STANDARD
DTSTART:20121121T140000Z
TZOFFSETFROM:+0100
TZOFFSETTO:+0100
END:STANDARD
END:VTIMEZONE
BEGIN:VTIMEZONE
TZID:UTC
BEGIN:STANDARD
DTSTART:20250725T140954Z
TZOFFSETFROM:+0000
TZOFFSETTO:+0000
END:STANDARD
END:VTIMEZONE
BEGIN:VEVENT
UID:2137-617
DTSTAMP:20260421T140954Z
SUMMARY:Concert: Tamas Fejes
LOCATION:HYH
ORGANIZER;CN=Im:MAILTO:canongatekirk@btinternet.com
RRULE:FREQ=WEEKLY;INTERVAL=1;COUNT=2
DTSTART;TZID=Etc/GMT-1:20130818T140000
DTEND;TZID=Etc/GMT-1:20130818T153000
X-ALT-DESC;FMTTYPE=TEXT/HTML:Bach Sonatas and Partitas for unaccompanied vi
 olin www.fejesquartet.co.uk
CATEGORIES:Church
URL;VALUE=URI:https://www.canongatekirk.org.uk/mc-events/concert-tamas-feje
 s-6/?mc_id=2137
METHOD:PUBLISH
END:VEVENT
END:VCALENDAR