BEGIN:VCALENDAR
VERSION:2.0
PRODID:spatie/icalendar-generator
DESCRIPTION:Events from Canongate Kirk
X-WR-CALDESC:Events from Canongate Kirk
REFRESH-INTERVAL;VALUE=DURATION:PT1440M
X-PUBLISHED-TTL:PT1440M
BEGIN:VTIMEZONE
TZID:Etc/GMT-1
BEGIN:STANDARD
DTSTART:20141119T140000Z
TZOFFSETFROM:+0100
TZOFFSETTO:+0100
END:STANDARD
END:VTIMEZONE
BEGIN:VTIMEZONE
TZID:UTC
BEGIN:STANDARD
DTSTART:20250725T225534Z
TZOFFSETFROM:+0000
TZOFFSETTO:+0000
END:STANDARD
END:VTIMEZONE
BEGIN:VEVENT
UID:3367-1485
DTSTAMP:20260421T225534Z
SUMMARY:Concert: Tamas Fejes
LOCATION:HYH
ORGANIZER;CN=Im:MAILTO:canongatekirk@btinternet.com
RRULE:FREQ=WEEKLY;COUNT=1
DTSTART;TZID=Etc/GMT-1:20150816T140000
DTEND;TZID=Etc/GMT-1:20150816T150000
X-ALT-DESC;FMTTYPE=TEXT/HTML:Acclaimed Hungarian virtuoso\, Tamas Fejes\, p
 erforms from his debut CD a selection of sonatas by J S Bach\, written for
  unaccompanied violin. Tickets £12/10/£8
CATEGORIES:Church
URL;VALUE=URI:https://www.canongatekirk.org.uk/mc-events/concert-tamas-feje
 s-7/?mc_id=3367
METHOD:PUBLISH
END:VEVENT
END:VCALENDAR