BEGIN:VCALENDAR
VERSION:2.0
PRODID:spatie/icalendar-generator
DESCRIPTION:Events from Canongate Kirk
X-WR-CALDESC:Events from Canongate Kirk
REFRESH-INTERVAL;VALUE=DURATION:PT1440M
X-PUBLISHED-TTL:PT1440M
BEGIN:VTIMEZONE
TZID:Etc/GMT-1
BEGIN:STANDARD
DTSTART:20170730T180000Z
TZOFFSETFROM:+0100
TZOFFSETTO:+0100
END:STANDARD
END:VTIMEZONE
BEGIN:VTIMEZONE
TZID:UTC
BEGIN:STANDARD
DTSTART:20250727T104247Z
TZOFFSETFROM:+0000
TZOFFSETTO:+0000
END:STANDARD
END:VTIMEZONE
BEGIN:VEVENT
UID:6668-3116
DTSTAMP:20260423T104247Z
SUMMARY:Fellowship Gathering
LOCATION:HYH
ORGANIZER;CN=Im:MAILTO:canongatekirk@btinternet.com
DTSTART;TZID=Etc/GMT-1:20180426T180000
DTEND;TZID=Etc/GMT-1:20180426T210000
X-ALT-DESC;FMTTYPE=TEXT/HTML:<p>church foyer</p>\n
CATEGORIES:HYH
URL;VALUE=URI:https://www.canongatekirk.org.uk/mc-events/fellowship-gatheri
 ng/
METHOD:PUBLISH
END:VEVENT
END:VCALENDAR