BEGIN:VCALENDAR
VERSION:2.0
PRODID:spatie/icalendar-generator
DESCRIPTION:Events from Canongate Kirk
X-WR-CALDESC:Events from Canongate Kirk
REFRESH-INTERVAL;VALUE=DURATION:PT1440M
X-PUBLISHED-TTL:PT1440M
BEGIN:VTIMEZONE
TZID:Etc/GMT-1
BEGIN:STANDARD
DTSTART:20170416T090000Z
TZOFFSETFROM:+0100
TZOFFSETTO:+0100
END:STANDARD
END:VTIMEZONE
BEGIN:VTIMEZONE
TZID:UTC
BEGIN:STANDARD
DTSTART:20250727T084713Z
TZOFFSETFROM:+0000
TZOFFSETTO:+0000
END:STANDARD
END:VTIMEZONE
BEGIN:VEVENT
UID:6218-2774
DTSTAMP:20260423T084713Z
SUMMARY:General Maintenance (Organ)
LOCATION:HYH
ORGANIZER;CN=Im:MAILTO:canongatekirk@btinternet.com
DTSTART;TZID=Etc/GMT-1:20180111T090000
DTEND;TZID=Etc/GMT-1:20180111T170000
X-ALT-DESC;FMTTYPE=TEXT/HTML:
CATEGORIES:Maintenance
URL;VALUE=URI:https://www.canongatekirk.org.uk/mc-events/general-maintenanc
 e-organ-4/
METHOD:PUBLISH
END:VEVENT
END:VCALENDAR