BEGIN:VCALENDAR
VERSION:2.0
PRODID:spatie/icalendar-generator
DESCRIPTION:Events from Canongate Kirk
X-WR-CALDESC:Events from Canongate Kirk
REFRESH-INTERVAL;VALUE=DURATION:PT1440M
X-PUBLISHED-TTL:PT1440M
BEGIN:VTIMEZONE
TZID:Etc/GMT-1
BEGIN:STANDARD
DTSTART:20150516T094500Z
TZOFFSETFROM:+0100
TZOFFSETTO:+0100
END:STANDARD
END:VTIMEZONE
BEGIN:VTIMEZONE
TZID:UTC
BEGIN:STANDARD
DTSTART:20250727T085112Z
TZOFFSETFROM:+0000
TZOFFSETTO:+0000
END:STANDARD
END:VTIMEZONE
BEGIN:VEVENT
UID:3209-1812
DTSTAMP:20260423T085112Z
SUMMARY:HYH: Crisis Cooking &amp; Food Preparation Classes
LOCATION:HYH
ORGANIZER;CN=Im:MAILTO:canongatekirk@btinternet.com
RRULE:FREQ=WEEKLY;COUNT=10
DTSTART;TZID=Etc/GMT-1:20160210T094500
DTEND;TZID=Etc/GMT-1:20160210T124500
X-ALT-DESC;FMTTYPE=TEXT/HTML:
CATEGORIES:HYH
URL;VALUE=URI:https://www.canongatekirk.org.uk/mc-events/hyh-crisis-cooking
 -food-preparation-classes/?mc_id=3209
METHOD:PUBLISH
END:VEVENT
END:VCALENDAR