BEGIN:VCALENDAR
VERSION:2.0
PRODID:spatie/icalendar-generator
DESCRIPTION:Events from Canongate Kirk
X-WR-CALDESC:Events from Canongate Kirk
REFRESH-INTERVAL;VALUE=DURATION:PT1440M
X-PUBLISHED-TTL:PT1440M
BEGIN:VTIMEZONE
TZID:Etc/GMT-1
BEGIN:STANDARD
DTSTART:20250605T160000Z
TZOFFSETFROM:+0100
TZOFFSETTO:+0100
END:STANDARD
END:VTIMEZONE
BEGIN:VTIMEZONE
TZID:UTC
BEGIN:STANDARD
DTSTART:20250725T103357Z
TZOFFSETFROM:+0000
TZOFFSETTO:+0000
END:STANDARD
END:VTIMEZONE
BEGIN:VEVENT
UID:11944-6907
DTSTAMP:20260421T103357Z
SUMMARY:HYH: Edinburgh World Heritage Event
LOCATION:
ORGANIZER;CN=Im:MAILTO:canongatekirk@btinternet.com
DTSTART;TZID=Etc/GMT-1:20260302T160000
DTEND;TZID=Etc/GMT-1:20260302T190000
X-ALT-DESC;FMTTYPE=TEXT/HTML:
CATEGORIES:HYH
URL;VALUE=URI:https://www.canongatekirk.org.uk/mc-events/hyh-edinburgh-worl
 d-heritage-event/
METHOD:PUBLISH
END:VEVENT
END:VCALENDAR