BEGIN:VCALENDAR
VERSION:2.0
PRODID:spatie/icalendar-generator
DESCRIPTION:Events from Canongate Kirk
X-WR-CALDESC:Events from Canongate Kirk
REFRESH-INTERVAL;VALUE=DURATION:PT1440M
X-PUBLISHED-TTL:PT1440M
BEGIN:VTIMEZONE
TZID:Etc/GMT-1
BEGIN:STANDARD
DTSTART:20150616T123000Z
TZOFFSETFROM:+0100
TZOFFSETTO:+0100
END:STANDARD
END:VTIMEZONE
BEGIN:VTIMEZONE
TZID:UTC
BEGIN:STANDARD
DTSTART:20250727T070008Z
TZOFFSETFROM:+0000
TZOFFSETTO:+0000
END:STANDARD
END:VTIMEZONE
BEGIN:VEVENT
UID:5300-1821
DTSTAMP:20260423T070008Z
SUMMARY:HYH: Playback Edinburgh
LOCATION:HYH
ORGANIZER;CN=Im:MAILTO:canongatekirk@btinternet.com
RRULE:FREQ=MONTHLY;BYDAY=2SA;COUNT=6
DTSTART;TZID=Etc/GMT-1:20160312T123000
DTEND;TZID=Etc/GMT-1:20160312T163000
X-ALT-DESC;FMTTYPE=TEXT/HTML:
CATEGORIES:HYH
URL;VALUE=URI:https://www.canongatekirk.org.uk/mc-events/hyh-playback-edinb
 urgh-10/?mc_id=5300
METHOD:PUBLISH
END:VEVENT
END:VCALENDAR