BEGIN:VCALENDAR
VERSION:2.0
PRODID:spatie/icalendar-generator
DESCRIPTION:Events from Canongate Kirk
X-WR-CALDESC:Events from Canongate Kirk
REFRESH-INTERVAL;VALUE=DURATION:PT1440M
X-PUBLISHED-TTL:PT1440M
BEGIN:VTIMEZONE
TZID:Etc/GMT-1
BEGIN:STANDARD
DTSTART:20160927T133000Z
TZOFFSETFROM:+0100
TZOFFSETTO:+0100
END:STANDARD
END:VTIMEZONE
BEGIN:VTIMEZONE
TZID:UTC
BEGIN:STANDARD
DTSTART:20250729T152139Z
TZOFFSETFROM:+0000
TZOFFSETTO:+0000
END:STANDARD
END:VTIMEZONE
BEGIN:VEVENT
UID:4329-2494
DTSTAMP:20260425T152139Z
SUMMARY:HYH: Reception
LOCATION:HYH
ORGANIZER;CN=Im:MAILTO:canongatekirk@btinternet.com
DTSTART;TZID=Etc/GMT-1:20170624T133000
DTEND;TZID=Etc/GMT-1:20170624T180000
X-ALT-DESC;FMTTYPE=TEXT/HTML:<p>St M's Chapel Guild reception and prep</p>\
 n
CATEGORIES:HYH
URL;VALUE=URI:https://www.canongatekirk.org.uk/mc-events/hyh-reception-21/
METHOD:PUBLISH
END:VEVENT
END:VCALENDAR