BEGIN:VCALENDAR
VERSION:2.0
PRODID:spatie/icalendar-generator
DESCRIPTION:Events from Canongate Kirk
X-WR-CALDESC:Events from Canongate Kirk
REFRESH-INTERVAL;VALUE=DURATION:PT1440M
X-PUBLISHED-TTL:PT1440M
BEGIN:VTIMEZONE
TZID:Etc/GMT-1
BEGIN:STANDARD
DTSTART:20150612T100000Z
TZOFFSETFROM:+0100
TZOFFSETTO:+0100
END:STANDARD
END:VTIMEZONE
BEGIN:VTIMEZONE
TZID:UTC
BEGIN:STANDARD
DTSTART:20250726T102243Z
TZOFFSETFROM:+0000
TZOFFSETTO:+0000
END:STANDARD
END:VTIMEZONE
BEGIN:VEVENT
UID:5198-1925
DTSTAMP:20260422T102243Z
SUMMARY:HYH: Talk Edinburgh World Heritage Trust
LOCATION:HYH
ORGANIZER;CN=Im:MAILTO:canongatekirk@btinternet.com
DTSTART;TZID=Etc/GMT-1:20160308T100000
DTEND;TZID=Etc/GMT-1:20160308T120000
X-ALT-DESC;FMTTYPE=TEXT/HTML:
CATEGORIES:HYH
URL;VALUE=URI:https://www.canongatekirk.org.uk/mc-events/hyh-talk-edinburgh
 -world-heritage-trust/
METHOD:PUBLISH
END:VEVENT
END:VCALENDAR