BEGIN:VCALENDAR
VERSION:2.0
PRODID:spatie/icalendar-generator
DESCRIPTION:Events from Canongate Kirk
X-WR-CALDESC:Events from Canongate Kirk
REFRESH-INTERVAL;VALUE=DURATION:PT1440M
X-PUBLISHED-TTL:PT1440M
BEGIN:VTIMEZONE
TZID:Etc/GMT-1
BEGIN:STANDARD
DTSTART:20150620T140000Z
TZOFFSETFROM:+0100
TZOFFSETTO:+0100
END:STANDARD
END:VTIMEZONE
BEGIN:VTIMEZONE
TZID:UTC
BEGIN:STANDARD
DTSTART:20250729T220132Z
TZOFFSETFROM:+0000
TZOFFSETTO:+0000
END:STANDARD
END:VTIMEZONE
BEGIN:VEVENT
UID:5189-1775
DTSTAMP:20260425T220132Z
SUMMARY:Installation - time and date tbc
LOCATION:HYH
ORGANIZER;CN=Im:MAILTO:canongatekirk@btinternet.com
RRULE:FREQ=DAILY;COUNT=1
DTSTART;TZID=Etc/GMT-1:20160316T140000
DTEND;TZID=Etc/GMT-1:20160316T150000
X-ALT-DESC;FMTTYPE=TEXT/HTML:
CATEGORIES:Maintenance
URL;VALUE=URI:https://www.canongatekirk.org.uk/mc-events/installation-time-
 and-date-tbc/?mc_id=5189
METHOD:PUBLISH
END:VEVENT
END:VCALENDAR