BEGIN:VCALENDAR
VERSION:2.0
PRODID:spatie/icalendar-generator
DESCRIPTION:Events from Canongate Kirk
X-WR-CALDESC:Events from Canongate Kirk
REFRESH-INTERVAL;VALUE=DURATION:PT1440M
X-PUBLISHED-TTL:PT1440M
BEGIN:VTIMEZONE
TZID:Etc/GMT-1
BEGIN:STANDARD
DTSTART:20160325T000000Z
TZOFFSETFROM:+0100
TZOFFSETTO:+0100
END:STANDARD
END:VTIMEZONE
BEGIN:VTIMEZONE
TZID:UTC
BEGIN:STANDARD
DTSTART:20250727T114745Z
TZOFFSETFROM:+0000
TZOFFSETTO:+0000
END:STANDARD
END:VTIMEZONE
BEGIN:VEVENT
UID:4944-1886
DTSTAMP:20260423T114745Z
SUMMARY:Ludus Christmas Oratorio Concert TBC
LOCATION:HYH
ORGANIZER;CN=Im:MAILTO:canongatekirk@btinternet.com
DTSTART;TZID=Etc/GMT-1;VALUE=DATE:20161220
DTEND;TZID=Etc/GMT-1;VALUE=DATE:20161221
X-ALT-DESC;FMTTYPE=TEXT/HTML:
CATEGORIES:Church
URL;VALUE=URI:https://www.canongatekirk.org.uk/mc-events/ludus-christmas-or
 atorio-concert-tbc/
METHOD:PUBLISH
END:VEVENT
END:VCALENDAR