BEGIN:VCALENDAR
VERSION:2.0
PRODID:spatie/icalendar-generator
DESCRIPTION:Events from Canongate Kirk
X-WR-CALDESC:Events from Canongate Kirk
REFRESH-INTERVAL;VALUE=DURATION:PT1440M
X-PUBLISHED-TTL:PT1440M
BEGIN:VTIMEZONE
TZID:Etc/GMT-1
BEGIN:STANDARD
DTSTART:20160414T101500Z
TZOFFSETFROM:+0100
TZOFFSETTO:+0100
END:STANDARD
END:VTIMEZONE
BEGIN:VTIMEZONE
TZID:UTC
BEGIN:STANDARD
DTSTART:20250725T103609Z
TZOFFSETFROM:+0000
TZOFFSETTO:+0000
END:STANDARD
END:VTIMEZONE
BEGIN:VEVENT
UID:5703-2344
DTSTAMP:20260421T103609Z
SUMMARY:Manse Meeting Room\; Archivists
LOCATION:HYH
ORGANIZER;CN=Im:MAILTO:canongatekirk@btinternet.com
RRULE:FREQ=DAILY;INTERVAL=7;COUNT=11
DTSTART;TZID=Etc/GMT-1:20170109T101500
DTEND;TZID=Etc/GMT-1:20170109T123000
X-ALT-DESC;FMTTYPE=TEXT/HTML:
CATEGORIES:Manse Meeting Room
URL;VALUE=URI:https://www.canongatekirk.org.uk/mc-events/manse-meeting-room
 -archivists-4/?mc_id=5703
METHOD:PUBLISH
END:VEVENT
END:VCALENDAR