BEGIN:VCALENDAR
VERSION:2.0
PRODID:spatie/icalendar-generator
DESCRIPTION:Events from Canongate Kirk
X-WR-CALDESC:Events from Canongate Kirk
REFRESH-INTERVAL;VALUE=DURATION:PT1440M
X-PUBLISHED-TTL:PT1440M
BEGIN:VTIMEZONE
TZID:Etc/GMT-1
BEGIN:STANDARD
DTSTART:20160807T103000Z
TZOFFSETFROM:+0100
TZOFFSETTO:+0100
END:STANDARD
END:VTIMEZONE
BEGIN:VTIMEZONE
TZID:UTC
BEGIN:STANDARD
DTSTART:20250725T103305Z
TZOFFSETFROM:+0000
TZOFFSETTO:+0000
END:STANDARD
END:VTIMEZONE
BEGIN:VEVENT
UID:6011-2595
DTSTAMP:20260421T103305Z
SUMMARY:Manse Meeting Room: St Margaret's Chapel Guild Comm
LOCATION:HYH
ORGANIZER;CN=Im:MAILTO:canongatekirk@btinternet.com
DTSTART;TZID=Etc/GMT-1:20170504T103000
DTEND;TZID=Etc/GMT-1:20170504T123000
X-ALT-DESC;FMTTYPE=TEXT/HTML:<p>Website Training.  Leave key at Clarinda's</p>\n
CATEGORIES:Manse Meeting Room
URL;VALUE=URI:https://www.canongatekirk.org.uk/mc-events/manse-meeting-room
 -st-margarets-chapel-guild-comm-10/
METHOD:PUBLISH
END:VEVENT
END:VCALENDAR