BEGIN:VCALENDAR
VERSION:2.0
PRODID:spatie/icalendar-generator
DESCRIPTION:Events from Canongate Kirk
X-WR-CALDESC:Events from Canongate Kirk
REFRESH-INTERVAL;VALUE=DURATION:PT1440M
X-PUBLISHED-TTL:PT1440M
BEGIN:VTIMEZONE
TZID:Etc/GMT-1
BEGIN:STANDARD
DTSTART:20160914T140000Z
TZOFFSETFROM:+0100
TZOFFSETTO:+0100
END:STANDARD
END:VTIMEZONE
BEGIN:VTIMEZONE
TZID:UTC
BEGIN:STANDARD
DTSTART:20250725T120755Z
TZOFFSETFROM:+0000
TZOFFSETTO:+0000
END:STANDARD
END:VTIMEZONE
BEGIN:VEVENT
UID:5750-2399
DTSTAMP:20260421T120755Z
SUMMARY:Margaret Stewart: Tour
LOCATION:HYH
ORGANIZER;CN=Im:MAILTO:canongatekirk@btinternet.com
DTSTART;TZID=Etc/GMT-1:20170611T140000
DTEND;TZID=Etc/GMT-1:20170611T143000
X-ALT-DESC;FMTTYPE=TEXT/HTML:<p>American Architects  Time TBC but after 1.3
 0pm</p>\n
CATEGORIES:Maintenance
URL;VALUE=URI:https://www.canongatekirk.org.uk/mc-events/margaret-stewart-t
 our/
METHOD:PUBLISH
END:VEVENT
END:VCALENDAR