BEGIN:VCALENDAR
VERSION:2.0
PRODID:spatie/icalendar-generator
DESCRIPTION:Events from Canongate Kirk
X-WR-CALDESC:Events from Canongate Kirk
REFRESH-INTERVAL;VALUE=DURATION:PT1440M
X-PUBLISHED-TTL:PT1440M
BEGIN:VTIMEZONE
TZID:Etc/GMT-1
BEGIN:STANDARD
DTSTART:20140720T170000Z
TZOFFSETFROM:+0100
TZOFFSETTO:+0100
END:STANDARD
END:VTIMEZONE
BEGIN:VTIMEZONE
TZID:UTC
BEGIN:STANDARD
DTSTART:20250728T074627Z
TZOFFSETFROM:+0000
TZOFFSETTO:+0000
END:STANDARD
END:VTIMEZONE
BEGIN:VEVENT
UID:3360-1478
DTSTAMP:20260424T074627Z
SUMMARY:Meeting room: Key Moves
LOCATION:HYH
ORGANIZER;CN=Im:MAILTO:canongatekirk@btinternet.com
DTSTART;TZID=Etc/GMT-1:20150416T170000
DTEND;TZID=Etc/GMT-1:20150416T200000
X-ALT-DESC;FMTTYPE=TEXT/HTML:
CATEGORIES:Maintenance
URL;VALUE=URI:https://www.canongatekirk.org.uk/mc-events/meeting-room-key-m
 oves-2/
METHOD:PUBLISH
END:VEVENT
END:VCALENDAR