BEGIN:VCALENDAR
VERSION:2.0
PRODID:spatie/icalendar-generator
DESCRIPTION:Events from Canongate Kirk
X-WR-CALDESC:Events from Canongate Kirk
REFRESH-INTERVAL;VALUE=DURATION:PT1440M
X-PUBLISHED-TTL:PT1440M
BEGIN:VTIMEZONE
TZID:Etc/GMT-1
BEGIN:STANDARD
DTSTART:20151224T133000Z
TZOFFSETFROM:+0100
TZOFFSETTO:+0100
END:STANDARD
END:VTIMEZONE
BEGIN:VTIMEZONE
TZID:UTC
BEGIN:STANDARD
DTSTART:20250728T063806Z
TZOFFSETFROM:+0000
TZOFFSETTO:+0000
END:STANDARD
END:VTIMEZONE
BEGIN:VEVENT
UID:5343-1858
DTSTAMP:20260424T063806Z
SUMMARY:Meeting room: St Margaret's Chapel Guild
LOCATION:HYH
ORGANIZER;CN=Im:MAILTO:canongatekirk@btinternet.com
DTSTART;TZID=Etc/GMT-1:20160919T133000
DTEND;TZID=Etc/GMT-1:20160919T153000
X-ALT-DESC;FMTTYPE=TEXT/HTML:<p>Finance Mtg followed by Committee Mtg</p>\n
CATEGORIES:Manse Meeting Room
URL;VALUE=URI:https://www.canongatekirk.org.uk/mc-events/meeting-room-st-ma
 rgarets-chapel-guild-5/
METHOD:PUBLISH
END:VEVENT
END:VCALENDAR