BEGIN:VCALENDAR
VERSION:2.0
PRODID:spatie/icalendar-generator
DESCRIPTION:Events from Canongate Kirk
X-WR-CALDESC:Events from Canongate Kirk
REFRESH-INTERVAL;VALUE=DURATION:PT1440M
X-PUBLISHED-TTL:PT1440M
BEGIN:VTIMEZONE
TZID:Etc/GMT-1
BEGIN:STANDARD
DTSTART:20151031T100000Z
TZOFFSETFROM:+0100
TZOFFSETTO:+0100
END:STANDARD
END:VTIMEZONE
BEGIN:VTIMEZONE
TZID:UTC
BEGIN:STANDARD
DTSTART:20250728T204848Z
TZOFFSETFROM:+0000
TZOFFSETTO:+0000
END:STANDARD
END:VTIMEZONE
BEGIN:VEVENT
UID:5596-2209
DTSTAMP:20260424T204848Z
SUMMARY:Organ maintenance Time TBC
LOCATION:HYH
ORGANIZER;CN=Im:MAILTO:canongatekirk@btinternet.com
DTSTART;TZID=Etc/GMT-1:20160727T100000
DTEND;TZID=Etc/GMT-1:20160727T170000
X-ALT-DESC;FMTTYPE=TEXT/HTML:<p>Martyn Strachan  Will phone me if church no
 t already open<br />\nOffice Administrator<br />\nForth Pipe Organs Limite
 d</p>\n
CATEGORIES:Church
URL;VALUE=URI:https://www.canongatekirk.org.uk/mc-events/organ-maintenance-
 time-tbc/
METHOD:PUBLISH
END:VEVENT
END:VCALENDAR