BEGIN:VCALENDAR
VERSION:2.0
PRODID:spatie/icalendar-generator
DESCRIPTION:Events from Canongate Kirk
X-WR-CALDESC:Events from Canongate Kirk
REFRESH-INTERVAL;VALUE=DURATION:PT1440M
X-PUBLISHED-TTL:PT1440M
BEGIN:VTIMEZONE
TZID:Etc/GMT-1
BEGIN:STANDARD
DTSTART:20111016T123000Z
TZOFFSETFROM:+0100
TZOFFSETTO:+0100
END:STANDARD
END:VTIMEZONE
BEGIN:VTIMEZONE
TZID:UTC
BEGIN:STANDARD
DTSTART:20250726T084459Z
TZOFFSETFROM:+0000
TZOFFSETTO:+0000
END:STANDARD
END:VTIMEZONE
BEGIN:VEVENT
UID:515-268
DTSTAMP:20260422T084459Z
SUMMARY:Organ practice
LOCATION:HYH
ORGANIZER;CN=Im:MAILTO:canongatekirk@btinternet.com
DTSTART;TZID=Etc/GMT-1:20120712T123000
DTEND;TZID=Etc/GMT-1:20120712T140000
X-ALT-DESC;FMTTYPE=TEXT/HTML:RCO Candidate - P Maxwell Brown
CATEGORIES:Church
URL;VALUE=URI:https://www.canongatekirk.org.uk/mc-events/organ-practice-210
 /
METHOD:PUBLISH
END:VEVENT
END:VCALENDAR