BEGIN:VCALENDAR
VERSION:2.0
PRODID:spatie/icalendar-generator
DESCRIPTION:Events from Canongate Kirk
X-WR-CALDESC:Events from Canongate Kirk
REFRESH-INTERVAL;VALUE=DURATION:PT1440M
X-PUBLISHED-TTL:PT1440M
BEGIN:VTIMEZONE
TZID:Etc/GMT-1
BEGIN:STANDARD
DTSTART:20150616T160000Z
TZOFFSETFROM:+0100
TZOFFSETTO:+0100
END:STANDARD
END:VTIMEZONE
BEGIN:VTIMEZONE
TZID:UTC
BEGIN:STANDARD
DTSTART:20250727T103822Z
TZOFFSETFROM:+0000
TZOFFSETTO:+0000
END:STANDARD
END:VTIMEZONE
BEGIN:VEVENT
UID:5394-2008
DTSTAMP:20260423T103822Z
SUMMARY:Organ practice and/or lesson
LOCATION:HYH
ORGANIZER;CN=Im:MAILTO:canongatekirk@btinternet.com
DTSTART;TZID=Etc/GMT-1:20160312T160000
DTEND;TZID=Etc/GMT-1:20160312T170000
X-ALT-DESC;FMTTYPE=TEXT/HTML:
CATEGORIES:Church
URL;VALUE=URI:https://www.canongatekirk.org.uk/mc-events/organ-practice-and
 or-lesson-4/
METHOD:PUBLISH
END:VEVENT
END:VCALENDAR