BEGIN:VCALENDAR
VERSION:2.0
PRODID:spatie/icalendar-generator
DESCRIPTION:Events from Canongate Kirk
X-WR-CALDESC:Events from Canongate Kirk
REFRESH-INTERVAL;VALUE=DURATION:PT1440M
X-PUBLISHED-TTL:PT1440M
BEGIN:VTIMEZONE
TZID:Etc/GMT-1
BEGIN:STANDARD
DTSTART:20160620T100000Z
TZOFFSETFROM:+0100
TZOFFSETTO:+0100
END:STANDARD
END:VTIMEZONE
BEGIN:VTIMEZONE
TZID:UTC
BEGIN:STANDARD
DTSTART:20250730T030445Z
TZOFFSETFROM:+0000
TZOFFSETTO:+0000
END:STANDARD
END:VTIMEZONE
BEGIN:VEVENT
UID:5991-2569
DTSTAMP:20260426T030445Z
SUMMARY:Organ practice: JD
LOCATION:HYH
ORGANIZER;CN=Im:MAILTO:canongatekirk@btinternet.com
DTSTART;TZID=Etc/GMT-1:20170317T100000
DTEND;TZID=Etc/GMT-1:20170317T120000
X-ALT-DESC;FMTTYPE=TEXT/HTML:<p>John Duffy</p>\n
CATEGORIES:Church
URL;VALUE=URI:https://www.canongatekirk.org.uk/mc-events/organ-practice-jd/
METHOD:PUBLISH
END:VEVENT
END:VCALENDAR