BEGIN:VCALENDAR
VERSION:2.0
PRODID:spatie/icalendar-generator
DESCRIPTION:Events from Canongate Kirk
X-WR-CALDESC:Events from Canongate Kirk
REFRESH-INTERVAL;VALUE=DURATION:PT1440M
X-PUBLISHED-TTL:PT1440M
BEGIN:VTIMEZONE
TZID:Etc/GMT-1
BEGIN:STANDARD
DTSTART:20131126T120000Z
TZOFFSETFROM:+0100
TZOFFSETTO:+0100
END:STANDARD
END:VTIMEZONE
BEGIN:VTIMEZONE
TZID:UTC
BEGIN:STANDARD
DTSTART:20250725T102553Z
TZOFFSETFROM:+0000
TZOFFSETTO:+0000
END:STANDARD
END:VTIMEZONE
BEGIN:VEVENT
UID:2707-1034
DTSTAMP:20260421T102553Z
SUMMARY:Organ Recital: David Hamilton
LOCATION:HYH
ORGANIZER;CN=Im:MAILTO:canongatekirk@btinternet.com
DTSTART;TZID=Etc/GMT-1:20140823T120000
DTEND;TZID=Etc/GMT-1:20140823T133000
X-ALT-DESC;FMTTYPE=TEXT/HTML:Bach &amp; Italian Influence - selected works by B
 ach Tickets £5
CATEGORIES:Church
URL;VALUE=URI:https://www.canongatekirk.org.uk/mc-events/organ-recital-davi
 d-hamilton-8/
METHOD:PUBLISH
END:VEVENT
END:VCALENDAR