BEGIN:VCALENDAR
VERSION:2.0
PRODID:spatie/icalendar-generator
DESCRIPTION:Events from Canongate Kirk
X-WR-CALDESC:Events from Canongate Kirk
REFRESH-INTERVAL;VALUE=DURATION:PT1440M
X-PUBLISHED-TTL:PT1440M
BEGIN:VTIMEZONE
TZID:Etc/GMT-1
BEGIN:STANDARD
DTSTART:20150617T111500Z
TZOFFSETFROM:+0100
TZOFFSETTO:+0100
END:STANDARD
END:VTIMEZONE
BEGIN:VTIMEZONE
TZID:UTC
BEGIN:STANDARD
DTSTART:20250729T133806Z
TZOFFSETFROM:+0000
TZOFFSETTO:+0000
END:STANDARD
END:VTIMEZONE
BEGIN:VEVENT
UID:3931-1898
DTSTAMP:20260425T133806Z
SUMMARY:Parish Worship with Confirmation
LOCATION:HYH
ORGANIZER;CN=Im:MAILTO:canongatekirk@btinternet.com
DTSTART;TZID=Etc/GMT-1:20160313T111500
DTEND;TZID=Etc/GMT-1:20160313T121500
X-ALT-DESC;FMTTYPE=TEXT/HTML:Traditional Worship at 11:15AM\, with organ mu
 sic\, followed by a time of fellowship with tea\, coffee\, and refreshment
 s.
CATEGORIES:Church
URL;VALUE=URI:https://www.canongatekirk.org.uk/mc-events/parish-worship-wit
 h-confirmation-2/
METHOD:PUBLISH
END:VEVENT
END:VCALENDAR