BEGIN:VCALENDAR
VERSION:2.0
PRODID:spatie/icalendar-generator
DESCRIPTION:Events from Canongate Kirk
X-WR-CALDESC:Events from Canongate Kirk
REFRESH-INTERVAL;VALUE=DURATION:PT1440M
X-PUBLISHED-TTL:PT1440M
BEGIN:VTIMEZONE
TZID:Etc/GMT-1
BEGIN:STANDARD
DTSTART:20141120T100000Z
TZOFFSETFROM:+0100
TZOFFSETTO:+0100
END:STANDARD
END:VTIMEZONE
BEGIN:VTIMEZONE
TZID:UTC
BEGIN:STANDARD
DTSTART:20250725T210014Z
TZOFFSETFROM:+0000
TZOFFSETTO:+0000
END:STANDARD
END:VTIMEZONE
BEGIN:VEVENT
UID:4341-1668
DTSTAMP:20260421T210014Z
SUMMARY:Piano Tuning
LOCATION:HYH
ORGANIZER;CN=Im:MAILTO:canongatekirk@btinternet.com
DTSTART;TZID=Etc/GMT-1:20150817T100000
DTEND;TZID=Etc/GMT-1:20150817T130000
X-ALT-DESC;FMTTYPE=TEXT/HTML:
CATEGORIES:Maintenance
URL;VALUE=URI:https://www.canongatekirk.org.uk/mc-events/piano-tuning-18/
METHOD:PUBLISH
END:VEVENT
END:VCALENDAR