BEGIN:VCALENDAR
VERSION:2.0
PRODID:spatie/icalendar-generator
DESCRIPTION:Events from Canongate Kirk
X-WR-CALDESC:Events from Canongate Kirk
REFRESH-INTERVAL;VALUE=DURATION:PT1440M
X-PUBLISHED-TTL:PT1440M
BEGIN:VTIMEZONE
TZID:Etc/GMT-1
BEGIN:STANDARD
DTSTART:20110722T193000Z
TZOFFSETFROM:+0100
TZOFFSETTO:+0100
END:STANDARD
END:VTIMEZONE
BEGIN:VTIMEZONE
TZID:UTC
BEGIN:STANDARD
DTSTART:20250723T134616Z
TZOFFSETFROM:+0000
TZOFFSETTO:+0000
END:STANDARD
END:VTIMEZONE
BEGIN:VEVENT
UID:56-121
DTSTAMP:20260419T134616Z
SUMMARY:Rehearsal: Calton Consort
LOCATION:HYH
ORGANIZER;CN=Im:MAILTO:canongatekirk@btinternet.com
RRULE:FREQ=WEEKLY;INTERVAL=1;COUNT=8
DTSTART;TZID=Etc/GMT-1:20120417T193000
DTEND;TZID=Etc/GMT-1:20120417T213000
X-ALT-DESC;FMTTYPE=TEXT/HTML:
CATEGORIES:Church
URL;VALUE=URI:https://www.canongatekirk.org.uk/mc-events/rehearsal-calton-c
 onsort-35/?mc_id=56
METHOD:PUBLISH
END:VEVENT
END:VCALENDAR