BEGIN:VCALENDAR
VERSION:2.0
PRODID:spatie/icalendar-generator
DESCRIPTION:Events from Canongate Kirk
X-WR-CALDESC:Events from Canongate Kirk
REFRESH-INTERVAL;VALUE=DURATION:PT1440M
X-PUBLISHED-TTL:PT1440M
BEGIN:VTIMEZONE
TZID:Etc/GMT-1
BEGIN:STANDARD
DTSTART:20231114T220000Z
TZOFFSETFROM:+0100
TZOFFSETTO:+0100
END:STANDARD
END:VTIMEZONE
BEGIN:VTIMEZONE
TZID:UTC
BEGIN:STANDARD
DTSTART:20250727T022104Z
TZOFFSETFROM:+0000
TZOFFSETTO:+0000
END:STANDARD
END:VTIMEZONE
BEGIN:VEVENT
UID:9972-5428
DTSTAMP:20260423T022104Z
SUMMARY:St Andrew Camerata Concert
LOCATION:
ORGANIZER;CN=Im:MAILTO:canongatekirk@btinternet.com
DTSTART;TZID=Etc/GMT-1:20240810T220000
DTEND;TZID=Etc/GMT-1:20240810T233000
X-ALT-DESC;FMTTYPE=TEXT/HTML:
CATEGORIES:Church
URL;VALUE=URI:https://www.canongatekirk.org.uk/mc-events/st-andrew-camerata
 -concert/
METHOD:PUBLISH
END:VEVENT
END:VCALENDAR