BEGIN:VCALENDAR
VERSION:2.0
PRODID:spatie/icalendar-generator
DESCRIPTION:Events from Canongate Kirk
X-WR-CALDESC:Events from Canongate Kirk
REFRESH-INTERVAL;VALUE=DURATION:PT1440M
X-PUBLISHED-TTL:PT1440M
BEGIN:VTIMEZONE
TZID:Etc/GMT-1
BEGIN:STANDARD
DTSTART:20160607T140000Z
TZOFFSETFROM:+0100
TZOFFSETTO:+0100
END:STANDARD
END:VTIMEZONE
BEGIN:VTIMEZONE
TZID:UTC
BEGIN:STANDARD
DTSTART:20250728T155507Z
TZOFFSETFROM:+0000
TZOFFSETTO:+0000
END:STANDARD
END:VTIMEZONE
BEGIN:VEVENT
UID:5621-2243
DTSTAMP:20260424T155507Z
SUMMARY:Wedding
LOCATION:HYH
ORGANIZER;CN=Im:MAILTO:canongatekirk@btinternet.com
DTSTART;TZID=Etc/GMT-1:20170304T140000
DTEND;TZID=Etc/GMT-1:20170304T150000
X-ALT-DESC;FMTTYPE=TEXT/HTML:<p>Bryce Miller  Time and date TBC</p>\n
CATEGORIES:Church
URL;VALUE=URI:https://www.canongatekirk.org.uk/mc-events/wedding-151/
METHOD:PUBLISH
END:VEVENT
END:VCALENDAR